BEGIN:VCALENDAR
VERSION:2.0
PRODID:-//Corps Baruthia 220 Jahre//NONSGML kigkonsult.se iCalcreator 2.30.
 10//
CALSCALE:GREGORIAN
METHOD:PUBLISH
UID:11a7c899-9677-4411-8067-b4d42612ebb0
X-WR-CALNAME:iCagenda
X-WR-CALDESC:Event Management Extension for Joomla!
X-WR-RELCALID:3E26604A-50F4-4449-8B3E-E4F4932D05B5
X-WR-TIMEZONE:UTC
BEGIN:VTIMEZONE
TZID:UTC
END:VTIMEZONE
BEGIN:VEVENT
UID:ad1896de-f2a5-4202-a733-be6c27acf58a
DTSTAMP:20260424T195347Z
CATEGORIES:220. Bundesfest
CLASS:PUBLIC
DESCRIPTION;ALTREP="CID:<FFFF__=0ABBE548DFE235B58f9e8a93d@coffeebean.com>":
 Die Auftaktveranstaltung zum 220. Bundesfestes in Erlangen auf unserem Cor
 pshaus\n&nbsp\;
DTSTART:20230713T190000Z
DTEND:20230713T235900Z
GEO:+49.606831;+11.014278
LOCATION:Corps Baruthia
ORGANIZER;CN=:kassier@corps-baruthia.de
SEQUENCE:1
SUMMARY:Begrüßungsabend
TRANSP:OPAQUE
URL:http://baruthia.de/index.php/component/icagenda/1-begruessungsabend.htm
 l?Itemid=101
END:VEVENT
END:VCALENDAR
