BEGIN:VCALENDAR
VERSION:2.0
PRODID:-//Corps Baruthia 220 Jahre//NONSGML kigkonsult.se iCalcreator 2.30.
 10//
CALSCALE:GREGORIAN
METHOD:PUBLISH
UID:ddb214c0-107d-406f-9875-681734ae96ff
X-WR-CALNAME:iCagenda
X-WR-CALDESC:Event Management Extension for Joomla!
X-WR-RELCALID:3E26604A-50F4-4449-8B3E-E4F4932D05B5
X-WR-TIMEZONE:UTC
BEGIN:VTIMEZONE
TZID:UTC
END:VTIMEZONE
BEGIN:VEVENT
UID:566ceb43-e538-421d-8cf3-c493e1e9cd41
DTSTAMP:20260424T030432Z
CATEGORIES:220. Bundesfest
CLASS:PUBLIC
DESCRIPTION:
DTSTART:20230716T111500Z
DTEND:20230716T170000Z
GEO:+49.606831;+11.014278
LOCATION:Corps Baruthia
ORGANIZER;CN=:kassier@corps-baruhtia.de
SEQUENCE:1
SUMMARY:Ausklang
TRANSP:OPAQUE
URL:http://baruthia.de/index.php/component/icagenda/10-ausklang.html?Itemid
 =101
END:VEVENT
END:VCALENDAR
