BEGIN:VCALENDAR
VERSION:2.0
PRODID:-//Corps Baruthia 220 Jahre//NONSGML kigkonsult.se iCalcreator 2.30.
 10//
CALSCALE:GREGORIAN
METHOD:PUBLISH
UID:e13e06bc-d3cf-4789-9560-a4296c4c763a
X-WR-CALNAME:iCagenda
X-WR-CALDESC:Event Management Extension for Joomla!
X-WR-RELCALID:3E26604A-50F4-4449-8B3E-E4F4932D05B5
X-WR-TIMEZONE:UTC
BEGIN:VTIMEZONE
TZID:UTC
END:VTIMEZONE
BEGIN:VEVENT
UID:2fd7bbc5-cec9-40f1-95ec-23aa9d44fd23
DTSTAMP:20260424T103657Z
CATEGORIES:220. Bundesfest
CLASS:PUBLIC
DESCRIPTION:
DTSTART:20230713T160000Z
DTEND:20230713T170000Z
GEO:+49.606831;+11.014278
LOCATION:Corps Baruthia
ORGANIZER;CN=:kassier@corps-baruthia.de
SEQUENCE:1
SUMMARY:Kranzniederlegungen in Erlangen
TRANSP:OPAQUE
URL:http://baruthia.de/index.php/component/icagenda/5-kranzniederlegung-in-
 erlangen.html?Itemid=101
END:VEVENT
END:VCALENDAR
