BEGIN:VCALENDAR
VERSION:2.0
PRODID:-//Corps Baruthia 220 Jahre//NONSGML kigkonsult.se iCalcreator 2.30.
 10//
CALSCALE:GREGORIAN
METHOD:PUBLISH
UID:8c387d17-3c17-4d4f-a95e-db4f5e2e0962
X-WR-CALNAME:iCagenda
X-WR-CALDESC:Event Management Extension for Joomla!
X-WR-RELCALID:3E26604A-50F4-4449-8B3E-E4F4932D05B5
X-WR-TIMEZONE:UTC
BEGIN:VTIMEZONE
TZID:UTC
END:VTIMEZONE
BEGIN:VEVENT
UID:70ee3f9c-5be2-4e3e-ad45-c90084bb1568
DTSTAMP:20260424T163625Z
CATEGORIES:220. Bundesfest
CLASS:PUBLIC
DESCRIPTION:
DTSTART:20230714T103000Z
DTEND:20230714T120000Z
GEO:+49.606831;+11.014278
LOCATION:Corps Baruthia
ORGANIZER;CN=:kassier@corps-baruthia.de
SEQUENCE:1
SUMMARY:Bundesconvent
TRANSP:OPAQUE
URL:http://baruthia.de/index.php/icagenda/2-bundesconvent.html
END:VEVENT
END:VCALENDAR
